BEGIN:VCALENDAR
VERSION:2.0
METHOD:PUBLISH
PRODID:-//Accessible Web Design//My Calendar//http://www.joedolson.com//v//EN';
BEGIN:VEVENT
UID:17-5
LOCATION:
SUMMARY:Rencontre FIC
DTSTAMP:20160305
ORGANIZER;CN=Nacéra:MAILTO:nacera@culture21.org
DTSTART:20160305
DTEND:20160306
CATEGORIES:4
URL;VALUE=URI:https://culture21.org/mc-events/rencontre-fic/?mc_id=17
DESCRIPTION:Rencontre FIC (Fabriques des initiatives citoyennes) Mise en place du Réseau mutualisation des outils de mobilisation des habitants
X-FUNAMBOL-ALLDAY: 1
X-MICROSOFT-CDO-ALLDAYEVENT: TRUE

END:VEVENT
END:VCALENDAR